BEGIN:VCALENDAR
VERSION:2.0
PRODID:-//Church of the Ascension - ECPv6.15.17.1//NONSGML v1.0//EN
CALSCALE:GREGORIAN
METHOD:PUBLISH
X-WR-CALNAME:Church of the Ascension
X-ORIGINAL-URL:https://ascensionmpls.org
X-WR-CALDESC:Events for Church of the Ascension
REFRESH-INTERVAL;VALUE=DURATION:PT1H
X-Robots-Tag:noindex
X-PUBLISHED-TTL:PT1H
BEGIN:VTIMEZONE
TZID:America/Chicago
BEGIN:DAYLIGHT
TZOFFSETFROM:-0600
TZOFFSETTO:-0500
TZNAME:CDT
DTSTART:20240310T080000
END:DAYLIGHT
BEGIN:STANDARD
TZOFFSETFROM:-0500
TZOFFSETTO:-0600
TZNAME:CST
DTSTART:20241103T070000
END:STANDARD
BEGIN:DAYLIGHT
TZOFFSETFROM:-0600
TZOFFSETTO:-0500
TZNAME:CDT
DTSTART:20250309T080000
END:DAYLIGHT
BEGIN:STANDARD
TZOFFSETFROM:-0500
TZOFFSETTO:-0600
TZNAME:CST
DTSTART:20251102T070000
END:STANDARD
BEGIN:DAYLIGHT
TZOFFSETFROM:-0600
TZOFFSETTO:-0500
TZNAME:CDT
DTSTART:20260308T080000
END:DAYLIGHT
BEGIN:STANDARD
TZOFFSETFROM:-0500
TZOFFSETTO:-0600
TZNAME:CST
DTSTART:20261101T070000
END:STANDARD
END:VTIMEZONE
BEGIN:VEVENT
DTSTART;TZID=America/Chicago:20250405T153000
DTEND;TZID=America/Chicago:20250405T163000
DTSTAMP:20260425T114243
CREATED:20250124T200552Z
LAST-MODIFIED:20250124T200552Z
UID:10000720-1743867000-1743870600@ascensionmpls.org
SUMMARY:Mass in English
DESCRIPTION:
URL:https://ascensionmpls.org/event/mass-in-english-2/2025-04-05/
LOCATION:Church of the Ascension\, 1723 Bryant Ave N\, Minneapolis\, MN\, United States
CATEGORIES:Mass
GEO:44.99655;-93.291119
X-APPLE-STRUCTURED-LOCATION;VALUE=URI;X-ADDRESS=Church of the Ascension 1723 Bryant Ave N Minneapolis MN United States;X-APPLE-RADIUS=500;X-TITLE=1723 Bryant Ave N:geo:-93.291119,44.99655
END:VEVENT
BEGIN:VEVENT
DTSTART;TZID=America/Chicago:20250406T093000
DTEND;TZID=America/Chicago:20250406T103000
DTSTAMP:20260425T114243
CREATED:20230919T182447Z
LAST-MODIFIED:20230919T182447Z
UID:10000267-1743931800-1743935400@ascensionmpls.org
SUMMARY:Bilingual Mass
DESCRIPTION:
URL:https://ascensionmpls.org/event/bilingual-mass/2025-04-06/
LOCATION:MN
CATEGORIES:Mass
END:VEVENT
BEGIN:VEVENT
DTSTART;TZID=America/Chicago:20250406T113000
DTEND;TZID=America/Chicago:20250406T123000
DTSTAMP:20260425T114243
CREATED:20230919T182608Z
LAST-MODIFIED:20230919T182608Z
UID:10000528-1743939000-1743942600@ascensionmpls.org
SUMMARY:Bilingual Mass
DESCRIPTION:
URL:https://ascensionmpls.org/event/bilingual-mass-2/2025-04-06/
LOCATION:MN
CATEGORIES:Mass
END:VEVENT
BEGIN:VEVENT
DTSTART;TZID=America/Chicago:20250412T153000
DTEND;TZID=America/Chicago:20250412T163000
DTSTAMP:20260425T114243
CREATED:20250124T200552Z
LAST-MODIFIED:20250124T200552Z
UID:10000721-1744471800-1744475400@ascensionmpls.org
SUMMARY:Mass in English
DESCRIPTION:
URL:https://ascensionmpls.org/event/mass-in-english-2/2025-04-12/
LOCATION:Church of the Ascension\, 1723 Bryant Ave N\, Minneapolis\, MN\, United States
CATEGORIES:Mass
GEO:44.99655;-93.291119
X-APPLE-STRUCTURED-LOCATION;VALUE=URI;X-ADDRESS=Church of the Ascension 1723 Bryant Ave N Minneapolis MN United States;X-APPLE-RADIUS=500;X-TITLE=1723 Bryant Ave N:geo:-93.291119,44.99655
END:VEVENT
BEGIN:VEVENT
DTSTART;TZID=America/Chicago:20250413T093000
DTEND;TZID=America/Chicago:20250413T103000
DTSTAMP:20260425T114243
CREATED:20230919T182447Z
LAST-MODIFIED:20230919T182447Z
UID:10000268-1744536600-1744540200@ascensionmpls.org
SUMMARY:Bilingual Mass
DESCRIPTION:
URL:https://ascensionmpls.org/event/bilingual-mass/2025-04-13/
LOCATION:MN
CATEGORIES:Mass
END:VEVENT
BEGIN:VEVENT
DTSTART;TZID=America/Chicago:20250413T113000
DTEND;TZID=America/Chicago:20250413T123000
DTSTAMP:20260425T114243
CREATED:20230919T182608Z
LAST-MODIFIED:20230919T182608Z
UID:10000529-1744543800-1744547400@ascensionmpls.org
SUMMARY:Bilingual Mass
DESCRIPTION:
URL:https://ascensionmpls.org/event/bilingual-mass-2/2025-04-13/
LOCATION:MN
CATEGORIES:Mass
END:VEVENT
BEGIN:VEVENT
DTSTART;TZID=America/Chicago:20250419T153000
DTEND;TZID=America/Chicago:20250419T163000
DTSTAMP:20260425T114243
CREATED:20250124T200552Z
LAST-MODIFIED:20250124T200552Z
UID:10000722-1745076600-1745080200@ascensionmpls.org
SUMMARY:Mass in English
DESCRIPTION:
URL:https://ascensionmpls.org/event/mass-in-english-2/2025-04-19/
LOCATION:Church of the Ascension\, 1723 Bryant Ave N\, Minneapolis\, MN\, United States
CATEGORIES:Mass
GEO:44.99655;-93.291119
X-APPLE-STRUCTURED-LOCATION;VALUE=URI;X-ADDRESS=Church of the Ascension 1723 Bryant Ave N Minneapolis MN United States;X-APPLE-RADIUS=500;X-TITLE=1723 Bryant Ave N:geo:-93.291119,44.99655
END:VEVENT
BEGIN:VEVENT
DTSTART;TZID=America/Chicago:20250420T093000
DTEND;TZID=America/Chicago:20250420T103000
DTSTAMP:20260425T114243
CREATED:20230919T182447Z
LAST-MODIFIED:20230919T182447Z
UID:10000269-1745141400-1745145000@ascensionmpls.org
SUMMARY:Bilingual Mass
DESCRIPTION:
URL:https://ascensionmpls.org/event/bilingual-mass/2025-04-20/
LOCATION:MN
CATEGORIES:Mass
END:VEVENT
BEGIN:VEVENT
DTSTART;TZID=America/Chicago:20250420T113000
DTEND;TZID=America/Chicago:20250420T123000
DTSTAMP:20260425T114243
CREATED:20230919T182608Z
LAST-MODIFIED:20230919T182608Z
UID:10000530-1745148600-1745152200@ascensionmpls.org
SUMMARY:Bilingual Mass
DESCRIPTION:
URL:https://ascensionmpls.org/event/bilingual-mass-2/2025-04-20/
LOCATION:MN
CATEGORIES:Mass
END:VEVENT
BEGIN:VEVENT
DTSTART;TZID=America/Chicago:20250426T153000
DTEND;TZID=America/Chicago:20250426T163000
DTSTAMP:20260425T114243
CREATED:20250124T200552Z
LAST-MODIFIED:20250124T200552Z
UID:10000723-1745681400-1745685000@ascensionmpls.org
SUMMARY:Mass in English
DESCRIPTION:
URL:https://ascensionmpls.org/event/mass-in-english-2/2025-04-26/
LOCATION:Church of the Ascension\, 1723 Bryant Ave N\, Minneapolis\, MN\, United States
CATEGORIES:Mass
GEO:44.99655;-93.291119
X-APPLE-STRUCTURED-LOCATION;VALUE=URI;X-ADDRESS=Church of the Ascension 1723 Bryant Ave N Minneapolis MN United States;X-APPLE-RADIUS=500;X-TITLE=1723 Bryant Ave N:geo:-93.291119,44.99655
END:VEVENT
BEGIN:VEVENT
DTSTART;TZID=America/Chicago:20250427T093000
DTEND;TZID=America/Chicago:20250427T103000
DTSTAMP:20260425T114243
CREATED:20230919T182447Z
LAST-MODIFIED:20230919T182447Z
UID:10000270-1745746200-1745749800@ascensionmpls.org
SUMMARY:Bilingual Mass
DESCRIPTION:
URL:https://ascensionmpls.org/event/bilingual-mass/2025-04-27/
LOCATION:MN
CATEGORIES:Mass
END:VEVENT
BEGIN:VEVENT
DTSTART;TZID=America/Chicago:20250427T113000
DTEND;TZID=America/Chicago:20250427T123000
DTSTAMP:20260425T114243
CREATED:20230919T182608Z
LAST-MODIFIED:20230919T182608Z
UID:10000531-1745753400-1745757000@ascensionmpls.org
SUMMARY:Bilingual Mass
DESCRIPTION:
URL:https://ascensionmpls.org/event/bilingual-mass-2/2025-04-27/
LOCATION:MN
CATEGORIES:Mass
END:VEVENT
END:VCALENDAR