BEGIN:VCALENDAR
VERSION:2.0
PRODID:-//Church of the Ascension - ECPv6.15.17.1//NONSGML v1.0//EN
CALSCALE:GREGORIAN
METHOD:PUBLISH
X-ORIGINAL-URL:https://ascensionmpls.org
X-WR-CALDESC:Events for Church of the Ascension
REFRESH-INTERVAL;VALUE=DURATION:PT1H
X-Robots-Tag:noindex
X-PUBLISHED-TTL:PT1H
BEGIN:VTIMEZONE
TZID:America/Chicago
BEGIN:DAYLIGHT
TZOFFSETFROM:-0600
TZOFFSETTO:-0500
TZNAME:CDT
DTSTART:20250309T080000
END:DAYLIGHT
BEGIN:STANDARD
TZOFFSETFROM:-0500
TZOFFSETTO:-0600
TZNAME:CST
DTSTART:20251102T070000
END:STANDARD
BEGIN:DAYLIGHT
TZOFFSETFROM:-0600
TZOFFSETTO:-0500
TZNAME:CDT
DTSTART:20260308T080000
END:DAYLIGHT
BEGIN:STANDARD
TZOFFSETFROM:-0500
TZOFFSETTO:-0600
TZNAME:CST
DTSTART:20261101T070000
END:STANDARD
BEGIN:DAYLIGHT
TZOFFSETFROM:-0600
TZOFFSETTO:-0500
TZNAME:CDT
DTSTART:20270314T080000
END:DAYLIGHT
BEGIN:STANDARD
TZOFFSETFROM:-0500
TZOFFSETTO:-0600
TZNAME:CST
DTSTART:20271107T070000
END:STANDARD
END:VTIMEZONE
BEGIN:VEVENT
DTSTART;TZID=America/Chicago:20260107T183000
DTEND;TZID=America/Chicago:20260107T200000
DTSTAMP:20260424T213417
CREATED:20250529T214952Z
LAST-MODIFIED:20250529T214952Z
UID:10000813-1767810600-1767816000@ascensionmpls.org
SUMMARY:Holy Hour
DESCRIPTION:Rosary\, prayer and Adoration.
URL:https://ascensionmpls.org/event/holy-hour/2026-01-07/
LOCATION:Church of the Ascension\, 1723 Bryant Ave N\, Minneapolis\, MN\, United States
CATEGORIES:Worship
GEO:44.99655;-93.291119
X-APPLE-STRUCTURED-LOCATION;VALUE=URI;X-ADDRESS=Church of the Ascension 1723 Bryant Ave N Minneapolis MN United States;X-APPLE-RADIUS=500;X-TITLE=1723 Bryant Ave N:geo:-93.291119,44.99655
END:VEVENT
BEGIN:VEVENT
DTSTART;TZID=America/Chicago:20260114T183000
DTEND;TZID=America/Chicago:20260114T200000
DTSTAMP:20260424T213417
CREATED:20250529T214952Z
LAST-MODIFIED:20250529T214952Z
UID:10000814-1768415400-1768420800@ascensionmpls.org
SUMMARY:Holy Hour
DESCRIPTION:Rosary\, prayer and Adoration.
URL:https://ascensionmpls.org/event/holy-hour/2026-01-14/
LOCATION:Church of the Ascension\, 1723 Bryant Ave N\, Minneapolis\, MN\, United States
CATEGORIES:Worship
GEO:44.99655;-93.291119
X-APPLE-STRUCTURED-LOCATION;VALUE=URI;X-ADDRESS=Church of the Ascension 1723 Bryant Ave N Minneapolis MN United States;X-APPLE-RADIUS=500;X-TITLE=1723 Bryant Ave N:geo:-93.291119,44.99655
END:VEVENT
BEGIN:VEVENT
DTSTART;TZID=America/Chicago:20260121T183000
DTEND;TZID=America/Chicago:20260121T200000
DTSTAMP:20260424T213417
CREATED:20250529T214952Z
LAST-MODIFIED:20250529T214952Z
UID:10000815-1769020200-1769025600@ascensionmpls.org
SUMMARY:Holy Hour
DESCRIPTION:Rosary\, prayer and Adoration.
URL:https://ascensionmpls.org/event/holy-hour/2026-01-21/
LOCATION:Church of the Ascension\, 1723 Bryant Ave N\, Minneapolis\, MN\, United States
CATEGORIES:Worship
GEO:44.99655;-93.291119
X-APPLE-STRUCTURED-LOCATION;VALUE=URI;X-ADDRESS=Church of the Ascension 1723 Bryant Ave N Minneapolis MN United States;X-APPLE-RADIUS=500;X-TITLE=1723 Bryant Ave N:geo:-93.291119,44.99655
END:VEVENT
BEGIN:VEVENT
DTSTART;TZID=America/Chicago:20260128T183000
DTEND;TZID=America/Chicago:20260128T200000
DTSTAMP:20260424T213417
CREATED:20250529T214952Z
LAST-MODIFIED:20250529T214952Z
UID:10000816-1769625000-1769630400@ascensionmpls.org
SUMMARY:Holy Hour
DESCRIPTION:Rosary\, prayer and Adoration.
URL:https://ascensionmpls.org/event/holy-hour/2026-01-28/
LOCATION:Church of the Ascension\, 1723 Bryant Ave N\, Minneapolis\, MN\, United States
CATEGORIES:Worship
GEO:44.99655;-93.291119
X-APPLE-STRUCTURED-LOCATION;VALUE=URI;X-ADDRESS=Church of the Ascension 1723 Bryant Ave N Minneapolis MN United States;X-APPLE-RADIUS=500;X-TITLE=1723 Bryant Ave N:geo:-93.291119,44.99655
END:VEVENT
END:VCALENDAR