BEGIN:VCALENDAR
VERSION:2.0
PRODID:-//Church of the Ascension - ECPv6.15.17.1//NONSGML v1.0//EN
CALSCALE:GREGORIAN
METHOD:PUBLISH
X-ORIGINAL-URL:https://ascensionmpls.org
X-WR-CALDESC:Events for Church of the Ascension
REFRESH-INTERVAL;VALUE=DURATION:PT1H
X-Robots-Tag:noindex
X-PUBLISHED-TTL:PT1H
BEGIN:VTIMEZONE
TZID:America/Chicago
BEGIN:DAYLIGHT
TZOFFSETFROM:-0600
TZOFFSETTO:-0500
TZNAME:CDT
DTSTART:20250309T080000
END:DAYLIGHT
BEGIN:STANDARD
TZOFFSETFROM:-0500
TZOFFSETTO:-0600
TZNAME:CST
DTSTART:20251102T070000
END:STANDARD
BEGIN:DAYLIGHT
TZOFFSETFROM:-0600
TZOFFSETTO:-0500
TZNAME:CDT
DTSTART:20260308T080000
END:DAYLIGHT
BEGIN:STANDARD
TZOFFSETFROM:-0500
TZOFFSETTO:-0600
TZNAME:CST
DTSTART:20261101T070000
END:STANDARD
BEGIN:DAYLIGHT
TZOFFSETFROM:-0600
TZOFFSETTO:-0500
TZNAME:CDT
DTSTART:20270314T080000
END:DAYLIGHT
BEGIN:STANDARD
TZOFFSETFROM:-0500
TZOFFSETTO:-0600
TZNAME:CST
DTSTART:20271107T070000
END:STANDARD
END:VTIMEZONE
BEGIN:VEVENT
DTSTART;TZID=America/Chicago:20260701T183000
DTEND;TZID=America/Chicago:20260701T200000
DTSTAMP:20260424T212727
CREATED:20250529T214952Z
LAST-MODIFIED:20250529T214952Z
UID:10000838-1782930600-1782936000@ascensionmpls.org
SUMMARY:Holy Hour
DESCRIPTION:Rosary\, prayer and Adoration.
URL:https://ascensionmpls.org/event/holy-hour/2026-07-01/
LOCATION:Church of the Ascension\, 1723 Bryant Ave N\, Minneapolis\, MN\, United States
CATEGORIES:Worship
GEO:44.99655;-93.291119
X-APPLE-STRUCTURED-LOCATION;VALUE=URI;X-ADDRESS=Church of the Ascension 1723 Bryant Ave N Minneapolis MN United States;X-APPLE-RADIUS=500;X-TITLE=1723 Bryant Ave N:geo:-93.291119,44.99655
END:VEVENT
BEGIN:VEVENT
DTSTART;TZID=America/Chicago:20260708T183000
DTEND;TZID=America/Chicago:20260708T200000
DTSTAMP:20260424T212727
CREATED:20250529T214952Z
LAST-MODIFIED:20250529T214952Z
UID:10000839-1783535400-1783540800@ascensionmpls.org
SUMMARY:Holy Hour
DESCRIPTION:Rosary\, prayer and Adoration.
URL:https://ascensionmpls.org/event/holy-hour/2026-07-08/
LOCATION:Church of the Ascension\, 1723 Bryant Ave N\, Minneapolis\, MN\, United States
CATEGORIES:Worship
GEO:44.99655;-93.291119
X-APPLE-STRUCTURED-LOCATION;VALUE=URI;X-ADDRESS=Church of the Ascension 1723 Bryant Ave N Minneapolis MN United States;X-APPLE-RADIUS=500;X-TITLE=1723 Bryant Ave N:geo:-93.291119,44.99655
END:VEVENT
BEGIN:VEVENT
DTSTART;TZID=America/Chicago:20260715T183000
DTEND;TZID=America/Chicago:20260715T200000
DTSTAMP:20260424T212727
CREATED:20250529T214952Z
LAST-MODIFIED:20250529T214952Z
UID:10000840-1784140200-1784145600@ascensionmpls.org
SUMMARY:Holy Hour
DESCRIPTION:Rosary\, prayer and Adoration.
URL:https://ascensionmpls.org/event/holy-hour/2026-07-15/
LOCATION:Church of the Ascension\, 1723 Bryant Ave N\, Minneapolis\, MN\, United States
CATEGORIES:Worship
GEO:44.99655;-93.291119
X-APPLE-STRUCTURED-LOCATION;VALUE=URI;X-ADDRESS=Church of the Ascension 1723 Bryant Ave N Minneapolis MN United States;X-APPLE-RADIUS=500;X-TITLE=1723 Bryant Ave N:geo:-93.291119,44.99655
END:VEVENT
BEGIN:VEVENT
DTSTART;TZID=America/Chicago:20260722T183000
DTEND;TZID=America/Chicago:20260722T200000
DTSTAMP:20260424T212727
CREATED:20250529T214952Z
LAST-MODIFIED:20250529T214952Z
UID:10000841-1784745000-1784750400@ascensionmpls.org
SUMMARY:Holy Hour
DESCRIPTION:Rosary\, prayer and Adoration.
URL:https://ascensionmpls.org/event/holy-hour/2026-07-22/
LOCATION:Church of the Ascension\, 1723 Bryant Ave N\, Minneapolis\, MN\, United States
CATEGORIES:Worship
GEO:44.99655;-93.291119
X-APPLE-STRUCTURED-LOCATION;VALUE=URI;X-ADDRESS=Church of the Ascension 1723 Bryant Ave N Minneapolis MN United States;X-APPLE-RADIUS=500;X-TITLE=1723 Bryant Ave N:geo:-93.291119,44.99655
END:VEVENT
BEGIN:VEVENT
DTSTART;TZID=America/Chicago:20260729T183000
DTEND;TZID=America/Chicago:20260729T200000
DTSTAMP:20260424T212727
CREATED:20250529T214952Z
LAST-MODIFIED:20250529T214952Z
UID:10000842-1785349800-1785355200@ascensionmpls.org
SUMMARY:Holy Hour
DESCRIPTION:Rosary\, prayer and Adoration.
URL:https://ascensionmpls.org/event/holy-hour/2026-07-29/
LOCATION:Church of the Ascension\, 1723 Bryant Ave N\, Minneapolis\, MN\, United States
CATEGORIES:Worship
GEO:44.99655;-93.291119
X-APPLE-STRUCTURED-LOCATION;VALUE=URI;X-ADDRESS=Church of the Ascension 1723 Bryant Ave N Minneapolis MN United States;X-APPLE-RADIUS=500;X-TITLE=1723 Bryant Ave N:geo:-93.291119,44.99655
END:VEVENT
END:VCALENDAR