BEGIN:VCALENDAR
VERSION:2.0
PRODID:-//Church of the Ascension - ECPv6.15.17.1//NONSGML v1.0//EN
CALSCALE:GREGORIAN
METHOD:PUBLISH
X-ORIGINAL-URL:https://ascensionmpls.org
X-WR-CALDESC:Events for Church of the Ascension
REFRESH-INTERVAL;VALUE=DURATION:PT1H
X-Robots-Tag:noindex
X-PUBLISHED-TTL:PT1H
BEGIN:VTIMEZONE
TZID:America/Chicago
BEGIN:DAYLIGHT
TZOFFSETFROM:-0600
TZOFFSETTO:-0500
TZNAME:CDT
DTSTART:20250309T080000
END:DAYLIGHT
BEGIN:STANDARD
TZOFFSETFROM:-0500
TZOFFSETTO:-0600
TZNAME:CST
DTSTART:20251102T070000
END:STANDARD
BEGIN:DAYLIGHT
TZOFFSETFROM:-0600
TZOFFSETTO:-0500
TZNAME:CDT
DTSTART:20260308T080000
END:DAYLIGHT
BEGIN:STANDARD
TZOFFSETFROM:-0500
TZOFFSETTO:-0600
TZNAME:CST
DTSTART:20261101T070000
END:STANDARD
BEGIN:DAYLIGHT
TZOFFSETFROM:-0600
TZOFFSETTO:-0500
TZNAME:CDT
DTSTART:20270314T080000
END:DAYLIGHT
BEGIN:STANDARD
TZOFFSETFROM:-0500
TZOFFSETTO:-0600
TZNAME:CST
DTSTART:20271107T070000
END:STANDARD
END:VTIMEZONE
BEGIN:VEVENT
DTSTART;TZID=America/Chicago:20260805T183000
DTEND;TZID=America/Chicago:20260805T200000
DTSTAMP:20260424T231732
CREATED:20250529T214952Z
LAST-MODIFIED:20250529T214952Z
UID:10000843-1785954600-1785960000@ascensionmpls.org
SUMMARY:Holy Hour
DESCRIPTION:Rosary\, prayer and Adoration.
URL:https://ascensionmpls.org/event/holy-hour/2026-08-05/
LOCATION:Church of the Ascension\, 1723 Bryant Ave N\, Minneapolis\, MN\, United States
CATEGORIES:Worship
GEO:44.99655;-93.291119
X-APPLE-STRUCTURED-LOCATION;VALUE=URI;X-ADDRESS=Church of the Ascension 1723 Bryant Ave N Minneapolis MN United States;X-APPLE-RADIUS=500;X-TITLE=1723 Bryant Ave N:geo:-93.291119,44.99655
END:VEVENT
BEGIN:VEVENT
DTSTART;TZID=America/Chicago:20260812T183000
DTEND;TZID=America/Chicago:20260812T200000
DTSTAMP:20260424T231732
CREATED:20250529T214952Z
LAST-MODIFIED:20250529T214952Z
UID:10000844-1786559400-1786564800@ascensionmpls.org
SUMMARY:Holy Hour
DESCRIPTION:Rosary\, prayer and Adoration.
URL:https://ascensionmpls.org/event/holy-hour/2026-08-12/
LOCATION:Church of the Ascension\, 1723 Bryant Ave N\, Minneapolis\, MN\, United States
CATEGORIES:Worship
GEO:44.99655;-93.291119
X-APPLE-STRUCTURED-LOCATION;VALUE=URI;X-ADDRESS=Church of the Ascension 1723 Bryant Ave N Minneapolis MN United States;X-APPLE-RADIUS=500;X-TITLE=1723 Bryant Ave N:geo:-93.291119,44.99655
END:VEVENT
BEGIN:VEVENT
DTSTART;TZID=America/Chicago:20260819T183000
DTEND;TZID=America/Chicago:20260819T200000
DTSTAMP:20260424T231732
CREATED:20250529T214952Z
LAST-MODIFIED:20250529T214952Z
UID:10000845-1787164200-1787169600@ascensionmpls.org
SUMMARY:Holy Hour
DESCRIPTION:Rosary\, prayer and Adoration.
URL:https://ascensionmpls.org/event/holy-hour/2026-08-19/
LOCATION:Church of the Ascension\, 1723 Bryant Ave N\, Minneapolis\, MN\, United States
CATEGORIES:Worship
GEO:44.99655;-93.291119
X-APPLE-STRUCTURED-LOCATION;VALUE=URI;X-ADDRESS=Church of the Ascension 1723 Bryant Ave N Minneapolis MN United States;X-APPLE-RADIUS=500;X-TITLE=1723 Bryant Ave N:geo:-93.291119,44.99655
END:VEVENT
BEGIN:VEVENT
DTSTART;TZID=America/Chicago:20260826T183000
DTEND;TZID=America/Chicago:20260826T200000
DTSTAMP:20260424T231732
CREATED:20250529T214952Z
LAST-MODIFIED:20250529T214952Z
UID:10000846-1787769000-1787774400@ascensionmpls.org
SUMMARY:Holy Hour
DESCRIPTION:Rosary\, prayer and Adoration.
URL:https://ascensionmpls.org/event/holy-hour/2026-08-26/
LOCATION:Church of the Ascension\, 1723 Bryant Ave N\, Minneapolis\, MN\, United States
CATEGORIES:Worship
GEO:44.99655;-93.291119
X-APPLE-STRUCTURED-LOCATION;VALUE=URI;X-ADDRESS=Church of the Ascension 1723 Bryant Ave N Minneapolis MN United States;X-APPLE-RADIUS=500;X-TITLE=1723 Bryant Ave N:geo:-93.291119,44.99655
END:VEVENT
END:VCALENDAR