BEGIN:VCALENDAR
VERSION:2.0
PRODID:-//Church of the Ascension - ECPv6.15.17.1//NONSGML v1.0//EN
CALSCALE:GREGORIAN
METHOD:PUBLISH
X-WR-CALNAME:Church of the Ascension
X-ORIGINAL-URL:https://ascensionmpls.org
X-WR-CALDESC:Events for Church of the Ascension
REFRESH-INTERVAL;VALUE=DURATION:PT1H
X-Robots-Tag:noindex
X-PUBLISHED-TTL:PT1H
BEGIN:VTIMEZONE
TZID:America/Chicago
BEGIN:DAYLIGHT
TZOFFSETFROM:-0600
TZOFFSETTO:-0500
TZNAME:CDT
DTSTART:20240310T080000
END:DAYLIGHT
BEGIN:STANDARD
TZOFFSETFROM:-0500
TZOFFSETTO:-0600
TZNAME:CST
DTSTART:20241103T070000
END:STANDARD
BEGIN:DAYLIGHT
TZOFFSETFROM:-0600
TZOFFSETTO:-0500
TZNAME:CDT
DTSTART:20250309T080000
END:DAYLIGHT
BEGIN:STANDARD
TZOFFSETFROM:-0500
TZOFFSETTO:-0600
TZNAME:CST
DTSTART:20251102T070000
END:STANDARD
BEGIN:DAYLIGHT
TZOFFSETFROM:-0600
TZOFFSETTO:-0500
TZNAME:CDT
DTSTART:20260308T080000
END:DAYLIGHT
BEGIN:STANDARD
TZOFFSETFROM:-0500
TZOFFSETTO:-0600
TZNAME:CST
DTSTART:20261101T070000
END:STANDARD
BEGIN:DAYLIGHT
TZOFFSETFROM:-0600
TZOFFSETTO:-0500
TZNAME:CDT
DTSTART:20270314T080000
END:DAYLIGHT
BEGIN:STANDARD
TZOFFSETFROM:-0500
TZOFFSETTO:-0600
TZNAME:CST
DTSTART:20271107T070000
END:STANDARD
END:VTIMEZONE
BEGIN:VEVENT
DTSTART;TZID=America/Chicago:20260211T183000
DTEND;TZID=America/Chicago:20260211T200000
DTSTAMP:20260424T182209
CREATED:20250529T214952Z
LAST-MODIFIED:20250529T214952Z
UID:10000818-1770834600-1770840000@ascensionmpls.org
SUMMARY:Holy Hour
DESCRIPTION:Rosary\, prayer and Adoration.
URL:https://ascensionmpls.org/event/holy-hour/2026-02-11/
LOCATION:Church of the Ascension\, 1723 Bryant Ave N\, Minneapolis\, MN\, United States
CATEGORIES:Worship
GEO:44.99655;-93.291119
X-APPLE-STRUCTURED-LOCATION;VALUE=URI;X-ADDRESS=Church of the Ascension 1723 Bryant Ave N Minneapolis MN United States;X-APPLE-RADIUS=500;X-TITLE=1723 Bryant Ave N:geo:-93.291119,44.99655
END:VEVENT
BEGIN:VEVENT
DTSTART;TZID=America/Chicago:20260204T183000
DTEND;TZID=America/Chicago:20260204T200000
DTSTAMP:20260424T182209
CREATED:20250529T214952Z
LAST-MODIFIED:20250529T214952Z
UID:10000817-1770229800-1770235200@ascensionmpls.org
SUMMARY:Holy Hour
DESCRIPTION:Rosary\, prayer and Adoration.
URL:https://ascensionmpls.org/event/holy-hour/2026-02-04/
LOCATION:Church of the Ascension\, 1723 Bryant Ave N\, Minneapolis\, MN\, United States
CATEGORIES:Worship
GEO:44.99655;-93.291119
X-APPLE-STRUCTURED-LOCATION;VALUE=URI;X-ADDRESS=Church of the Ascension 1723 Bryant Ave N Minneapolis MN United States;X-APPLE-RADIUS=500;X-TITLE=1723 Bryant Ave N:geo:-93.291119,44.99655
END:VEVENT
BEGIN:VEVENT
DTSTART;TZID=America/Chicago:20260128T183000
DTEND;TZID=America/Chicago:20260128T200000
DTSTAMP:20260424T182209
CREATED:20250529T214952Z
LAST-MODIFIED:20250529T214952Z
UID:10000816-1769625000-1769630400@ascensionmpls.org
SUMMARY:Holy Hour
DESCRIPTION:Rosary\, prayer and Adoration.
URL:https://ascensionmpls.org/event/holy-hour/2026-01-28/
LOCATION:Church of the Ascension\, 1723 Bryant Ave N\, Minneapolis\, MN\, United States
CATEGORIES:Worship
GEO:44.99655;-93.291119
X-APPLE-STRUCTURED-LOCATION;VALUE=URI;X-ADDRESS=Church of the Ascension 1723 Bryant Ave N Minneapolis MN United States;X-APPLE-RADIUS=500;X-TITLE=1723 Bryant Ave N:geo:-93.291119,44.99655
END:VEVENT
BEGIN:VEVENT
DTSTART;TZID=America/Chicago:20260121T183000
DTEND;TZID=America/Chicago:20260121T200000
DTSTAMP:20260424T182209
CREATED:20250529T214952Z
LAST-MODIFIED:20250529T214952Z
UID:10000815-1769020200-1769025600@ascensionmpls.org
SUMMARY:Holy Hour
DESCRIPTION:Rosary\, prayer and Adoration.
URL:https://ascensionmpls.org/event/holy-hour/2026-01-21/
LOCATION:Church of the Ascension\, 1723 Bryant Ave N\, Minneapolis\, MN\, United States
CATEGORIES:Worship
GEO:44.99655;-93.291119
X-APPLE-STRUCTURED-LOCATION;VALUE=URI;X-ADDRESS=Church of the Ascension 1723 Bryant Ave N Minneapolis MN United States;X-APPLE-RADIUS=500;X-TITLE=1723 Bryant Ave N:geo:-93.291119,44.99655
END:VEVENT
BEGIN:VEVENT
DTSTART;TZID=America/Chicago:20260114T183000
DTEND;TZID=America/Chicago:20260114T200000
DTSTAMP:20260424T182209
CREATED:20250529T214952Z
LAST-MODIFIED:20250529T214952Z
UID:10000814-1768415400-1768420800@ascensionmpls.org
SUMMARY:Holy Hour
DESCRIPTION:Rosary\, prayer and Adoration.
URL:https://ascensionmpls.org/event/holy-hour/2026-01-14/
LOCATION:Church of the Ascension\, 1723 Bryant Ave N\, Minneapolis\, MN\, United States
CATEGORIES:Worship
GEO:44.99655;-93.291119
X-APPLE-STRUCTURED-LOCATION;VALUE=URI;X-ADDRESS=Church of the Ascension 1723 Bryant Ave N Minneapolis MN United States;X-APPLE-RADIUS=500;X-TITLE=1723 Bryant Ave N:geo:-93.291119,44.99655
END:VEVENT
BEGIN:VEVENT
DTSTART;TZID=America/Chicago:20260107T183000
DTEND;TZID=America/Chicago:20260107T200000
DTSTAMP:20260424T182209
CREATED:20250529T214952Z
LAST-MODIFIED:20250529T214952Z
UID:10000813-1767810600-1767816000@ascensionmpls.org
SUMMARY:Holy Hour
DESCRIPTION:Rosary\, prayer and Adoration.
URL:https://ascensionmpls.org/event/holy-hour/2026-01-07/
LOCATION:Church of the Ascension\, 1723 Bryant Ave N\, Minneapolis\, MN\, United States
CATEGORIES:Worship
GEO:44.99655;-93.291119
X-APPLE-STRUCTURED-LOCATION;VALUE=URI;X-ADDRESS=Church of the Ascension 1723 Bryant Ave N Minneapolis MN United States;X-APPLE-RADIUS=500;X-TITLE=1723 Bryant Ave N:geo:-93.291119,44.99655
END:VEVENT
BEGIN:VEVENT
DTSTART;TZID=America/Chicago:20251231T183000
DTEND;TZID=America/Chicago:20251231T200000
DTSTAMP:20260424T182209
CREATED:20250529T214952Z
LAST-MODIFIED:20250529T214952Z
UID:10000812-1767205800-1767211200@ascensionmpls.org
SUMMARY:Holy Hour
DESCRIPTION:Rosary\, prayer and Adoration.
URL:https://ascensionmpls.org/event/holy-hour/2025-12-31/
LOCATION:Church of the Ascension\, 1723 Bryant Ave N\, Minneapolis\, MN\, United States
CATEGORIES:Worship
GEO:44.99655;-93.291119
X-APPLE-STRUCTURED-LOCATION;VALUE=URI;X-ADDRESS=Church of the Ascension 1723 Bryant Ave N Minneapolis MN United States;X-APPLE-RADIUS=500;X-TITLE=1723 Bryant Ave N:geo:-93.291119,44.99655
END:VEVENT
BEGIN:VEVENT
DTSTART;TZID=America/Chicago:20251224T183000
DTEND;TZID=America/Chicago:20251224T200000
DTSTAMP:20260424T182209
CREATED:20250529T214952Z
LAST-MODIFIED:20250529T214952Z
UID:10000811-1766601000-1766606400@ascensionmpls.org
SUMMARY:Holy Hour
DESCRIPTION:Rosary\, prayer and Adoration.
URL:https://ascensionmpls.org/event/holy-hour/2025-12-24/
LOCATION:Church of the Ascension\, 1723 Bryant Ave N\, Minneapolis\, MN\, United States
CATEGORIES:Worship
GEO:44.99655;-93.291119
X-APPLE-STRUCTURED-LOCATION;VALUE=URI;X-ADDRESS=Church of the Ascension 1723 Bryant Ave N Minneapolis MN United States;X-APPLE-RADIUS=500;X-TITLE=1723 Bryant Ave N:geo:-93.291119,44.99655
END:VEVENT
BEGIN:VEVENT
DTSTART;TZID=America/Chicago:20251217T183000
DTEND;TZID=America/Chicago:20251217T200000
DTSTAMP:20260424T182209
CREATED:20250529T214952Z
LAST-MODIFIED:20250529T214952Z
UID:10000810-1765996200-1766001600@ascensionmpls.org
SUMMARY:Holy Hour
DESCRIPTION:Rosary\, prayer and Adoration.
URL:https://ascensionmpls.org/event/holy-hour/2025-12-17/
LOCATION:Church of the Ascension\, 1723 Bryant Ave N\, Minneapolis\, MN\, United States
CATEGORIES:Worship
GEO:44.99655;-93.291119
X-APPLE-STRUCTURED-LOCATION;VALUE=URI;X-ADDRESS=Church of the Ascension 1723 Bryant Ave N Minneapolis MN United States;X-APPLE-RADIUS=500;X-TITLE=1723 Bryant Ave N:geo:-93.291119,44.99655
END:VEVENT
BEGIN:VEVENT
DTSTART;TZID=America/Chicago:20251210T183000
DTEND;TZID=America/Chicago:20251210T200000
DTSTAMP:20260424T182209
CREATED:20250529T214952Z
LAST-MODIFIED:20250529T214952Z
UID:10000809-1765391400-1765396800@ascensionmpls.org
SUMMARY:Holy Hour
DESCRIPTION:Rosary\, prayer and Adoration.
URL:https://ascensionmpls.org/event/holy-hour/2025-12-10/
LOCATION:Church of the Ascension\, 1723 Bryant Ave N\, Minneapolis\, MN\, United States
CATEGORIES:Worship
GEO:44.99655;-93.291119
X-APPLE-STRUCTURED-LOCATION;VALUE=URI;X-ADDRESS=Church of the Ascension 1723 Bryant Ave N Minneapolis MN United States;X-APPLE-RADIUS=500;X-TITLE=1723 Bryant Ave N:geo:-93.291119,44.99655
END:VEVENT
BEGIN:VEVENT
DTSTART;TZID=America/Chicago:20251203T183000
DTEND;TZID=America/Chicago:20251203T200000
DTSTAMP:20260424T182209
CREATED:20250529T214952Z
LAST-MODIFIED:20250529T214952Z
UID:10000808-1764786600-1764792000@ascensionmpls.org
SUMMARY:Holy Hour
DESCRIPTION:Rosary\, prayer and Adoration.
URL:https://ascensionmpls.org/event/holy-hour/2025-12-03/
LOCATION:Church of the Ascension\, 1723 Bryant Ave N\, Minneapolis\, MN\, United States
CATEGORIES:Worship
GEO:44.99655;-93.291119
X-APPLE-STRUCTURED-LOCATION;VALUE=URI;X-ADDRESS=Church of the Ascension 1723 Bryant Ave N Minneapolis MN United States;X-APPLE-RADIUS=500;X-TITLE=1723 Bryant Ave N:geo:-93.291119,44.99655
END:VEVENT
BEGIN:VEVENT
DTSTART;TZID=America/Chicago:20251126T183000
DTEND;TZID=America/Chicago:20251126T200000
DTSTAMP:20260424T182209
CREATED:20250529T214952Z
LAST-MODIFIED:20250529T214952Z
UID:10000807-1764181800-1764187200@ascensionmpls.org
SUMMARY:Holy Hour
DESCRIPTION:Rosary\, prayer and Adoration.
URL:https://ascensionmpls.org/event/holy-hour/2025-11-26/
LOCATION:Church of the Ascension\, 1723 Bryant Ave N\, Minneapolis\, MN\, United States
CATEGORIES:Worship
GEO:44.99655;-93.291119
X-APPLE-STRUCTURED-LOCATION;VALUE=URI;X-ADDRESS=Church of the Ascension 1723 Bryant Ave N Minneapolis MN United States;X-APPLE-RADIUS=500;X-TITLE=1723 Bryant Ave N:geo:-93.291119,44.99655
END:VEVENT
BEGIN:VEVENT
DTSTART;TZID=America/Chicago:20251119T183000
DTEND;TZID=America/Chicago:20251119T200000
DTSTAMP:20260424T182209
CREATED:20250529T214952Z
LAST-MODIFIED:20250529T214952Z
UID:10000806-1763577000-1763582400@ascensionmpls.org
SUMMARY:Holy Hour
DESCRIPTION:Rosary\, prayer and Adoration.
URL:https://ascensionmpls.org/event/holy-hour/2025-11-19/
LOCATION:Church of the Ascension\, 1723 Bryant Ave N\, Minneapolis\, MN\, United States
CATEGORIES:Worship
GEO:44.99655;-93.291119
X-APPLE-STRUCTURED-LOCATION;VALUE=URI;X-ADDRESS=Church of the Ascension 1723 Bryant Ave N Minneapolis MN United States;X-APPLE-RADIUS=500;X-TITLE=1723 Bryant Ave N:geo:-93.291119,44.99655
END:VEVENT
BEGIN:VEVENT
DTSTART;TZID=America/Chicago:20251112T183000
DTEND;TZID=America/Chicago:20251112T200000
DTSTAMP:20260424T182209
CREATED:20250529T214952Z
LAST-MODIFIED:20250529T214952Z
UID:10000805-1762972200-1762977600@ascensionmpls.org
SUMMARY:Holy Hour
DESCRIPTION:Rosary\, prayer and Adoration.
URL:https://ascensionmpls.org/event/holy-hour/2025-11-12/
LOCATION:Church of the Ascension\, 1723 Bryant Ave N\, Minneapolis\, MN\, United States
CATEGORIES:Worship
GEO:44.99655;-93.291119
X-APPLE-STRUCTURED-LOCATION;VALUE=URI;X-ADDRESS=Church of the Ascension 1723 Bryant Ave N Minneapolis MN United States;X-APPLE-RADIUS=500;X-TITLE=1723 Bryant Ave N:geo:-93.291119,44.99655
END:VEVENT
BEGIN:VEVENT
DTSTART;TZID=America/Chicago:20251105T183000
DTEND;TZID=America/Chicago:20251105T200000
DTSTAMP:20260424T182209
CREATED:20250529T214952Z
LAST-MODIFIED:20250529T214952Z
UID:10000804-1762367400-1762372800@ascensionmpls.org
SUMMARY:Holy Hour
DESCRIPTION:Rosary\, prayer and Adoration.
URL:https://ascensionmpls.org/event/holy-hour/2025-11-05/
LOCATION:Church of the Ascension\, 1723 Bryant Ave N\, Minneapolis\, MN\, United States
CATEGORIES:Worship
GEO:44.99655;-93.291119
X-APPLE-STRUCTURED-LOCATION;VALUE=URI;X-ADDRESS=Church of the Ascension 1723 Bryant Ave N Minneapolis MN United States;X-APPLE-RADIUS=500;X-TITLE=1723 Bryant Ave N:geo:-93.291119,44.99655
END:VEVENT
BEGIN:VEVENT
DTSTART;TZID=America/Chicago:20251029T183000
DTEND;TZID=America/Chicago:20251029T200000
DTSTAMP:20260424T182209
CREATED:20250529T214952Z
LAST-MODIFIED:20250529T214952Z
UID:10000803-1761762600-1761768000@ascensionmpls.org
SUMMARY:Holy Hour
DESCRIPTION:Rosary\, prayer and Adoration.
URL:https://ascensionmpls.org/event/holy-hour/2025-10-29/
LOCATION:Church of the Ascension\, 1723 Bryant Ave N\, Minneapolis\, MN\, United States
CATEGORIES:Worship
GEO:44.99655;-93.291119
X-APPLE-STRUCTURED-LOCATION;VALUE=URI;X-ADDRESS=Church of the Ascension 1723 Bryant Ave N Minneapolis MN United States;X-APPLE-RADIUS=500;X-TITLE=1723 Bryant Ave N:geo:-93.291119,44.99655
END:VEVENT
BEGIN:VEVENT
DTSTART;TZID=America/Chicago:20251022T183000
DTEND;TZID=America/Chicago:20251022T200000
DTSTAMP:20260424T182209
CREATED:20250529T214952Z
LAST-MODIFIED:20250529T214952Z
UID:10000802-1761157800-1761163200@ascensionmpls.org
SUMMARY:Holy Hour
DESCRIPTION:Rosary\, prayer and Adoration.
URL:https://ascensionmpls.org/event/holy-hour/2025-10-22/
LOCATION:Church of the Ascension\, 1723 Bryant Ave N\, Minneapolis\, MN\, United States
CATEGORIES:Worship
GEO:44.99655;-93.291119
X-APPLE-STRUCTURED-LOCATION;VALUE=URI;X-ADDRESS=Church of the Ascension 1723 Bryant Ave N Minneapolis MN United States;X-APPLE-RADIUS=500;X-TITLE=1723 Bryant Ave N:geo:-93.291119,44.99655
END:VEVENT
BEGIN:VEVENT
DTSTART;TZID=America/Chicago:20251015T183000
DTEND;TZID=America/Chicago:20251015T200000
DTSTAMP:20260424T182209
CREATED:20250529T214952Z
LAST-MODIFIED:20250529T214952Z
UID:10000801-1760553000-1760558400@ascensionmpls.org
SUMMARY:Holy Hour
DESCRIPTION:Rosary\, prayer and Adoration.
URL:https://ascensionmpls.org/event/holy-hour/2025-10-15/
LOCATION:Church of the Ascension\, 1723 Bryant Ave N\, Minneapolis\, MN\, United States
CATEGORIES:Worship
GEO:44.99655;-93.291119
X-APPLE-STRUCTURED-LOCATION;VALUE=URI;X-ADDRESS=Church of the Ascension 1723 Bryant Ave N Minneapolis MN United States;X-APPLE-RADIUS=500;X-TITLE=1723 Bryant Ave N:geo:-93.291119,44.99655
END:VEVENT
BEGIN:VEVENT
DTSTART;TZID=America/Chicago:20251008T183000
DTEND;TZID=America/Chicago:20251008T200000
DTSTAMP:20260424T182209
CREATED:20250529T214952Z
LAST-MODIFIED:20250529T214952Z
UID:10000800-1759948200-1759953600@ascensionmpls.org
SUMMARY:Holy Hour
DESCRIPTION:Rosary\, prayer and Adoration.
URL:https://ascensionmpls.org/event/holy-hour/2025-10-08/
LOCATION:Church of the Ascension\, 1723 Bryant Ave N\, Minneapolis\, MN\, United States
CATEGORIES:Worship
GEO:44.99655;-93.291119
X-APPLE-STRUCTURED-LOCATION;VALUE=URI;X-ADDRESS=Church of the Ascension 1723 Bryant Ave N Minneapolis MN United States;X-APPLE-RADIUS=500;X-TITLE=1723 Bryant Ave N:geo:-93.291119,44.99655
END:VEVENT
BEGIN:VEVENT
DTSTART;TZID=America/Chicago:20251001T183000
DTEND;TZID=America/Chicago:20251001T200000
DTSTAMP:20260424T182209
CREATED:20250529T214952Z
LAST-MODIFIED:20250529T214952Z
UID:10000799-1759343400-1759348800@ascensionmpls.org
SUMMARY:Holy Hour
DESCRIPTION:Rosary\, prayer and Adoration.
URL:https://ascensionmpls.org/event/holy-hour/2025-10-01/
LOCATION:Church of the Ascension\, 1723 Bryant Ave N\, Minneapolis\, MN\, United States
CATEGORIES:Worship
GEO:44.99655;-93.291119
X-APPLE-STRUCTURED-LOCATION;VALUE=URI;X-ADDRESS=Church of the Ascension 1723 Bryant Ave N Minneapolis MN United States;X-APPLE-RADIUS=500;X-TITLE=1723 Bryant Ave N:geo:-93.291119,44.99655
END:VEVENT
BEGIN:VEVENT
DTSTART;TZID=America/Chicago:20250924T183000
DTEND;TZID=America/Chicago:20250924T200000
DTSTAMP:20260424T182209
CREATED:20250529T214952Z
LAST-MODIFIED:20250529T214952Z
UID:10000798-1758738600-1758744000@ascensionmpls.org
SUMMARY:Holy Hour
DESCRIPTION:Rosary\, prayer and Adoration.
URL:https://ascensionmpls.org/event/holy-hour/2025-09-24/
LOCATION:Church of the Ascension\, 1723 Bryant Ave N\, Minneapolis\, MN\, United States
CATEGORIES:Worship
GEO:44.99655;-93.291119
X-APPLE-STRUCTURED-LOCATION;VALUE=URI;X-ADDRESS=Church of the Ascension 1723 Bryant Ave N Minneapolis MN United States;X-APPLE-RADIUS=500;X-TITLE=1723 Bryant Ave N:geo:-93.291119,44.99655
END:VEVENT
BEGIN:VEVENT
DTSTART;TZID=America/Chicago:20250917T183000
DTEND;TZID=America/Chicago:20250917T200000
DTSTAMP:20260424T182209
CREATED:20250529T214952Z
LAST-MODIFIED:20250529T214952Z
UID:10000797-1758133800-1758139200@ascensionmpls.org
SUMMARY:Holy Hour
DESCRIPTION:Rosary\, prayer and Adoration.
URL:https://ascensionmpls.org/event/holy-hour/2025-09-17/
LOCATION:Church of the Ascension\, 1723 Bryant Ave N\, Minneapolis\, MN\, United States
CATEGORIES:Worship
GEO:44.99655;-93.291119
X-APPLE-STRUCTURED-LOCATION;VALUE=URI;X-ADDRESS=Church of the Ascension 1723 Bryant Ave N Minneapolis MN United States;X-APPLE-RADIUS=500;X-TITLE=1723 Bryant Ave N:geo:-93.291119,44.99655
END:VEVENT
BEGIN:VEVENT
DTSTART;TZID=America/Chicago:20250910T183000
DTEND;TZID=America/Chicago:20250910T200000
DTSTAMP:20260424T182209
CREATED:20250529T214952Z
LAST-MODIFIED:20250529T214952Z
UID:10000796-1757529000-1757534400@ascensionmpls.org
SUMMARY:Holy Hour
DESCRIPTION:Rosary\, prayer and Adoration.
URL:https://ascensionmpls.org/event/holy-hour/2025-09-10/
LOCATION:Church of the Ascension\, 1723 Bryant Ave N\, Minneapolis\, MN\, United States
CATEGORIES:Worship
GEO:44.99655;-93.291119
X-APPLE-STRUCTURED-LOCATION;VALUE=URI;X-ADDRESS=Church of the Ascension 1723 Bryant Ave N Minneapolis MN United States;X-APPLE-RADIUS=500;X-TITLE=1723 Bryant Ave N:geo:-93.291119,44.99655
END:VEVENT
BEGIN:VEVENT
DTSTART;TZID=America/Chicago:20250903T183000
DTEND;TZID=America/Chicago:20250903T200000
DTSTAMP:20260424T182209
CREATED:20250529T214952Z
LAST-MODIFIED:20250529T214952Z
UID:10000795-1756924200-1756929600@ascensionmpls.org
SUMMARY:Holy Hour
DESCRIPTION:Rosary\, prayer and Adoration.
URL:https://ascensionmpls.org/event/holy-hour/2025-09-03/
LOCATION:Church of the Ascension\, 1723 Bryant Ave N\, Minneapolis\, MN\, United States
CATEGORIES:Worship
GEO:44.99655;-93.291119
X-APPLE-STRUCTURED-LOCATION;VALUE=URI;X-ADDRESS=Church of the Ascension 1723 Bryant Ave N Minneapolis MN United States;X-APPLE-RADIUS=500;X-TITLE=1723 Bryant Ave N:geo:-93.291119,44.99655
END:VEVENT
BEGIN:VEVENT
DTSTART;TZID=America/Chicago:20250827T183000
DTEND;TZID=America/Chicago:20250827T200000
DTSTAMP:20260424T182209
CREATED:20250529T214952Z
LAST-MODIFIED:20250529T214952Z
UID:10000794-1756319400-1756324800@ascensionmpls.org
SUMMARY:Holy Hour
DESCRIPTION:Rosary\, prayer and Adoration.
URL:https://ascensionmpls.org/event/holy-hour/2025-08-27/
LOCATION:Church of the Ascension\, 1723 Bryant Ave N\, Minneapolis\, MN\, United States
CATEGORIES:Worship
GEO:44.99655;-93.291119
X-APPLE-STRUCTURED-LOCATION;VALUE=URI;X-ADDRESS=Church of the Ascension 1723 Bryant Ave N Minneapolis MN United States;X-APPLE-RADIUS=500;X-TITLE=1723 Bryant Ave N:geo:-93.291119,44.99655
END:VEVENT
BEGIN:VEVENT
DTSTART;TZID=America/Chicago:20250820T183000
DTEND;TZID=America/Chicago:20250820T200000
DTSTAMP:20260424T182209
CREATED:20250529T214952Z
LAST-MODIFIED:20250529T214952Z
UID:10000793-1755714600-1755720000@ascensionmpls.org
SUMMARY:Holy Hour
DESCRIPTION:Rosary\, prayer and Adoration.
URL:https://ascensionmpls.org/event/holy-hour/2025-08-20/
LOCATION:Church of the Ascension\, 1723 Bryant Ave N\, Minneapolis\, MN\, United States
CATEGORIES:Worship
GEO:44.99655;-93.291119
X-APPLE-STRUCTURED-LOCATION;VALUE=URI;X-ADDRESS=Church of the Ascension 1723 Bryant Ave N Minneapolis MN United States;X-APPLE-RADIUS=500;X-TITLE=1723 Bryant Ave N:geo:-93.291119,44.99655
END:VEVENT
BEGIN:VEVENT
DTSTART;TZID=America/Chicago:20250813T183000
DTEND;TZID=America/Chicago:20250813T200000
DTSTAMP:20260424T182209
CREATED:20250529T214952Z
LAST-MODIFIED:20250529T214952Z
UID:10000792-1755109800-1755115200@ascensionmpls.org
SUMMARY:Holy Hour
DESCRIPTION:Rosary\, prayer and Adoration.
URL:https://ascensionmpls.org/event/holy-hour/2025-08-13/
LOCATION:Church of the Ascension\, 1723 Bryant Ave N\, Minneapolis\, MN\, United States
CATEGORIES:Worship
GEO:44.99655;-93.291119
X-APPLE-STRUCTURED-LOCATION;VALUE=URI;X-ADDRESS=Church of the Ascension 1723 Bryant Ave N Minneapolis MN United States;X-APPLE-RADIUS=500;X-TITLE=1723 Bryant Ave N:geo:-93.291119,44.99655
END:VEVENT
BEGIN:VEVENT
DTSTART;TZID=America/Chicago:20250806T183000
DTEND;TZID=America/Chicago:20250806T200000
DTSTAMP:20260424T182209
CREATED:20250529T214952Z
LAST-MODIFIED:20250529T214952Z
UID:10000791-1754505000-1754510400@ascensionmpls.org
SUMMARY:Holy Hour
DESCRIPTION:Rosary\, prayer and Adoration.
URL:https://ascensionmpls.org/event/holy-hour/2025-08-06/
LOCATION:Church of the Ascension\, 1723 Bryant Ave N\, Minneapolis\, MN\, United States
CATEGORIES:Worship
GEO:44.99655;-93.291119
X-APPLE-STRUCTURED-LOCATION;VALUE=URI;X-ADDRESS=Church of the Ascension 1723 Bryant Ave N Minneapolis MN United States;X-APPLE-RADIUS=500;X-TITLE=1723 Bryant Ave N:geo:-93.291119,44.99655
END:VEVENT
BEGIN:VEVENT
DTSTART;TZID=America/Chicago:20250730T183000
DTEND;TZID=America/Chicago:20250730T200000
DTSTAMP:20260424T182209
CREATED:20250529T214952Z
LAST-MODIFIED:20250529T214952Z
UID:10000790-1753900200-1753905600@ascensionmpls.org
SUMMARY:Holy Hour
DESCRIPTION:Rosary\, prayer and Adoration.
URL:https://ascensionmpls.org/event/holy-hour/2025-07-30/
LOCATION:Church of the Ascension\, 1723 Bryant Ave N\, Minneapolis\, MN\, United States
CATEGORIES:Worship
GEO:44.99655;-93.291119
X-APPLE-STRUCTURED-LOCATION;VALUE=URI;X-ADDRESS=Church of the Ascension 1723 Bryant Ave N Minneapolis MN United States;X-APPLE-RADIUS=500;X-TITLE=1723 Bryant Ave N:geo:-93.291119,44.99655
END:VEVENT
BEGIN:VEVENT
DTSTART;TZID=America/Chicago:20250723T183000
DTEND;TZID=America/Chicago:20250723T200000
DTSTAMP:20260424T182209
CREATED:20250529T214952Z
LAST-MODIFIED:20250529T214952Z
UID:10000789-1753295400-1753300800@ascensionmpls.org
SUMMARY:Holy Hour
DESCRIPTION:Rosary\, prayer and Adoration.
URL:https://ascensionmpls.org/event/holy-hour/2025-07-23/
LOCATION:Church of the Ascension\, 1723 Bryant Ave N\, Minneapolis\, MN\, United States
CATEGORIES:Worship
GEO:44.99655;-93.291119
X-APPLE-STRUCTURED-LOCATION;VALUE=URI;X-ADDRESS=Church of the Ascension 1723 Bryant Ave N Minneapolis MN United States;X-APPLE-RADIUS=500;X-TITLE=1723 Bryant Ave N:geo:-93.291119,44.99655
END:VEVENT
END:VCALENDAR