BEGIN:VCALENDAR
VERSION:2.0
PRODID:-//Church of the Ascension - ECPv6.15.17.1//NONSGML v1.0//EN
CALSCALE:GREGORIAN
METHOD:PUBLISH
X-ORIGINAL-URL:https://ascensionmpls.org
X-WR-CALDESC:Events for Church of the Ascension
REFRESH-INTERVAL;VALUE=DURATION:PT1H
X-Robots-Tag:noindex
X-PUBLISHED-TTL:PT1H
BEGIN:VTIMEZONE
TZID:America/Chicago
BEGIN:DAYLIGHT
TZOFFSETFROM:-0600
TZOFFSETTO:-0500
TZNAME:CDT
DTSTART:20240310T080000
END:DAYLIGHT
BEGIN:STANDARD
TZOFFSETFROM:-0500
TZOFFSETTO:-0600
TZNAME:CST
DTSTART:20241103T070000
END:STANDARD
BEGIN:DAYLIGHT
TZOFFSETFROM:-0600
TZOFFSETTO:-0500
TZNAME:CDT
DTSTART:20250309T080000
END:DAYLIGHT
BEGIN:STANDARD
TZOFFSETFROM:-0500
TZOFFSETTO:-0600
TZNAME:CST
DTSTART:20251102T070000
END:STANDARD
BEGIN:DAYLIGHT
TZOFFSETFROM:-0600
TZOFFSETTO:-0500
TZNAME:CDT
DTSTART:20260308T080000
END:DAYLIGHT
BEGIN:STANDARD
TZOFFSETFROM:-0500
TZOFFSETTO:-0600
TZNAME:CST
DTSTART:20261101T070000
END:STANDARD
END:VTIMEZONE
BEGIN:VEVENT
DTSTART;TZID=America/Chicago:20250611T180000
DTEND;TZID=America/Chicago:20250611T200000
DTSTAMP:20260425T231109
CREATED:20250529T214821Z
LAST-MODIFIED:20250529T214821Z
UID:10000781-1749664800-1749672000@ascensionmpls.org
SUMMARY:Nueva y Eterna Alianza
DESCRIPTION:Acompáñanos para una noche poderosa de liturgia\, enseñanza e inspiración el miércoles 11 de junio\, de 6 a 9 p.m.\, en la Iglesia Católica de la Ascensión\, Minneapolis. \nExplora cómo nuestras liturgias católicas revelan nuestra identidad como pueblo santo y elegido.\nPresentadores de toda la Arquidiócesis nos guiarán en una reflexión sobre el deseo de Dios de una alianza y relación con su pueblo.
URL:https://ascensionmpls.org/event/nueva-y-eterna-alianza/
CATEGORIES:Formación de Fe
END:VEVENT
END:VCALENDAR